BEGIN:VCALENDAR
VERSION:2.0
PRODID:-//Families Through Adoption - Michigan - ECPv6.15.20//NONSGML v1.0//EN
CALSCALE:GREGORIAN
METHOD:PUBLISH
X-ORIGINAL-URL:https://familiesthroughadoption.org
X-WR-CALDESC:Events for Families Through Adoption - Michigan
REFRESH-INTERVAL;VALUE=DURATION:PT1H
X-Robots-Tag:noindex
X-PUBLISHED-TTL:PT1H
BEGIN:VTIMEZONE
TZID:America/New_York
BEGIN:DAYLIGHT
TZOFFSETFROM:-0500
TZOFFSETTO:-0400
TZNAME:EDT
DTSTART:20140309T070000
END:DAYLIGHT
BEGIN:STANDARD
TZOFFSETFROM:-0400
TZOFFSETTO:-0500
TZNAME:EST
DTSTART:20141102T060000
END:STANDARD
BEGIN:DAYLIGHT
TZOFFSETFROM:-0500
TZOFFSETTO:-0400
TZNAME:EDT
DTSTART:20150308T070000
END:DAYLIGHT
BEGIN:STANDARD
TZOFFSETFROM:-0400
TZOFFSETTO:-0500
TZNAME:EST
DTSTART:20151101T060000
END:STANDARD
BEGIN:DAYLIGHT
TZOFFSETFROM:-0500
TZOFFSETTO:-0400
TZNAME:EDT
DTSTART:20160313T070000
END:DAYLIGHT
BEGIN:STANDARD
TZOFFSETFROM:-0400
TZOFFSETTO:-0500
TZNAME:EST
DTSTART:20161106T060000
END:STANDARD
BEGIN:DAYLIGHT
TZOFFSETFROM:-0500
TZOFFSETTO:-0400
TZNAME:EDT
DTSTART:20170312T070000
END:DAYLIGHT
BEGIN:STANDARD
TZOFFSETFROM:-0400
TZOFFSETTO:-0500
TZNAME:EST
DTSTART:20171105T060000
END:STANDARD
BEGIN:DAYLIGHT
TZOFFSETFROM:-0500
TZOFFSETTO:-0400
TZNAME:EDT
DTSTART:20180311T070000
END:DAYLIGHT
BEGIN:STANDARD
TZOFFSETFROM:-0400
TZOFFSETTO:-0500
TZNAME:EST
DTSTART:20181104T060000
END:STANDARD
BEGIN:DAYLIGHT
TZOFFSETFROM:-0500
TZOFFSETTO:-0400
TZNAME:EDT
DTSTART:20190310T070000
END:DAYLIGHT
BEGIN:STANDARD
TZOFFSETFROM:-0400
TZOFFSETTO:-0500
TZNAME:EST
DTSTART:20191103T060000
END:STANDARD
BEGIN:DAYLIGHT
TZOFFSETFROM:-0500
TZOFFSETTO:-0400
TZNAME:EDT
DTSTART:20200308T070000
END:DAYLIGHT
BEGIN:STANDARD
TZOFFSETFROM:-0400
TZOFFSETTO:-0500
TZNAME:EST
DTSTART:20201101T060000
END:STANDARD
BEGIN:DAYLIGHT
TZOFFSETFROM:-0500
TZOFFSETTO:-0400
TZNAME:EDT
DTSTART:20210314T070000
END:DAYLIGHT
BEGIN:STANDARD
TZOFFSETFROM:-0400
TZOFFSETTO:-0500
TZNAME:EST
DTSTART:20211107T060000
END:STANDARD
BEGIN:DAYLIGHT
TZOFFSETFROM:-0500
TZOFFSETTO:-0400
TZNAME:EDT
DTSTART:20220313T070000
END:DAYLIGHT
BEGIN:STANDARD
TZOFFSETFROM:-0400
TZOFFSETTO:-0500
TZNAME:EST
DTSTART:20221106T060000
END:STANDARD
BEGIN:DAYLIGHT
TZOFFSETFROM:-0500
TZOFFSETTO:-0400
TZNAME:EDT
DTSTART:20230312T070000
END:DAYLIGHT
BEGIN:STANDARD
TZOFFSETFROM:-0400
TZOFFSETTO:-0500
TZNAME:EST
DTSTART:20231105T060000
END:STANDARD
BEGIN:DAYLIGHT
TZOFFSETFROM:-0500
TZOFFSETTO:-0400
TZNAME:EDT
DTSTART:20240310T070000
END:DAYLIGHT
BEGIN:STANDARD
TZOFFSETFROM:-0400
TZOFFSETTO:-0500
TZNAME:EST
DTSTART:20241103T060000
END:STANDARD
BEGIN:DAYLIGHT
TZOFFSETFROM:-0500
TZOFFSETTO:-0400
TZNAME:EDT
DTSTART:20250309T070000
END:DAYLIGHT
BEGIN:STANDARD
TZOFFSETFROM:-0400
TZOFFSETTO:-0500
TZNAME:EST
DTSTART:20251102T060000
END:STANDARD
END:VTIMEZONE
BEGIN:VEVENT
DTSTART;TZID=America/New_York:20240921T100000
DTEND;TZID=America/New_York:20240921T110000
DTSTAMP:20260423T062005
CREATED:20240806T152021Z
LAST-MODIFIED:20240806T152021Z
UID:13487-1726912800-1726916400@familiesthroughadoption.org
SUMMARY:Orientation- September 21\, 2024
DESCRIPTION:Please Note: According to State of Michigan requirements\, both parents are required to attend orientation\, if this applies to your family circumstance. You do not need to be married to complete the adoption process.
URL:https://familiesthroughadoption.org/event/orientation-september-21-2024/
END:VEVENT
BEGIN:VEVENT
DTSTART;TZID=America/New_York:20240907T100000
DTEND;TZID=America/New_York:20240907T110000
DTSTAMP:20260423T062005
CREATED:20240806T151617Z
LAST-MODIFIED:20240806T151856Z
UID:13485-1725703200-1725706800@familiesthroughadoption.org
SUMMARY:Orientation- September 7\, 2024
DESCRIPTION:Please Note: According to State of Michigan requirements\, both parents are required to attend orientation\, if this applies to your family circumstance. You do not need to be married to complete the adoption process.
URL:https://familiesthroughadoption.org/event/orientation-september-7-2024/
END:VEVENT
BEGIN:VEVENT
DTSTART;TZID=America/New_York:20240824T100000
DTEND;TZID=America/New_York:20240824T110000
DTSTAMP:20260423T062005
CREATED:20240806T151406Z
LAST-MODIFIED:20240806T151831Z
UID:13482-1724493600-1724497200@familiesthroughadoption.org
SUMMARY:Orientation- August 24\, 2024
DESCRIPTION:Please Note: According to State of Michigan requirements\, both parents are required to attend orientation\, if this applies to your family circumstance. You do not need to be married to complete the adoption process.
URL:https://familiesthroughadoption.org/event/orientation-august-24-2024/
END:VEVENT
BEGIN:VEVENT
DTSTART;TZID=America/New_York:20240817T130000
DTEND;TZID=America/New_York:20240817T200000
DTSTAMP:20260423T062005
CREATED:20170605T185549Z
LAST-MODIFIED:20240806T152303Z
UID:10668-1723899600-1723924800@familiesthroughadoption.org
SUMMARY:Annual Picnic
DESCRIPTION:Please join us at Millennium Park\, in Walker\, MI\, for our annual picnic. Enjoy the beach\, food\, and  time together with all of our families. \nMore details to come-check out our Facebook page for the most up do date information!
URL:https://familiesthroughadoption.org/event/annual-picnic/
LOCATION:Millennium Park\, 1415 Maynard Ave SW\, Walker\, 49534
ORGANIZER;CN="Families Through Adoption":MAILTO:support@familiesthroughadoption.org 
END:VEVENT
BEGIN:VEVENT
DTSTART;TZID=America/New_York:20240810T100000
DTEND;TZID=America/New_York:20240810T110000
DTSTAMP:20260423T062005
CREATED:20240806T145602Z
LAST-MODIFIED:20240806T151732Z
UID:13478-1723284000-1723287600@familiesthroughadoption.org
SUMMARY:Orientation- August 10\, 2024
DESCRIPTION:Please Note: According to State of Michigan requirements\, both parents are required to attend orientation\, if this applies to your family circumstance. You do not need to be married to complete the adoption process.
URL:https://familiesthroughadoption.org/event/orientation-august-10-2024/
END:VEVENT
BEGIN:VEVENT
DTSTART;TZID=America/New_York:20240727T100000
DTEND;TZID=America/New_York:20240727T110000
DTSTAMP:20260423T062005
CREATED:20220505T134207Z
LAST-MODIFIED:20240412T182823Z
UID:12034-1722074400-1722078000@familiesthroughadoption.org
SUMMARY:Orientation-July 27\, 2024
DESCRIPTION:Please Note: According to State of Michigan requirements\, both parents are required to attend orientation\, if this applies to your family circumstance. You do not need to be married to complete the adoption process.
URL:https://familiesthroughadoption.org/event/orientation-july27/
END:VEVENT
BEGIN:VEVENT
DTSTART;TZID=America/New_York:20240713T100000
DTEND;TZID=America/New_York:20240713T110000
DTSTAMP:20260423T062005
CREATED:20220519T173257Z
LAST-MODIFIED:20240412T182701Z
UID:12063-1720864800-1720868400@familiesthroughadoption.org
SUMMARY:Orientation-July 13\, 2024
DESCRIPTION:Please Note: According to State of Michigan requirements\, both parents are required to attend orientation\, if this applies to your family circumstance. You do not need to be married to complete the adoption process.
URL:https://familiesthroughadoption.org/event/orientation-july13/
END:VEVENT
BEGIN:VEVENT
DTSTART;TZID=America/New_York:20240629T100000
DTEND;TZID=America/New_York:20240629T110000
DTSTAMP:20260423T062005
CREATED:20220519T173409Z
LAST-MODIFIED:20240412T182545Z
UID:12065-1719655200-1719658800@familiesthroughadoption.org
SUMMARY:Orientation-June 29\, 2024
DESCRIPTION:Please Note: According to State of Michigan requirements\, both parents are required to attend orientation\, if this applies to your family circumstance. You do not need to be married to complete the adoption process.
URL:https://familiesthroughadoption.org/event/orientation-june29/
END:VEVENT
BEGIN:VEVENT
DTSTART;TZID=America/New_York:20240615T100000
DTEND;TZID=America/New_York:20240615T110000
DTSTAMP:20260423T062005
CREATED:20221219T012957Z
LAST-MODIFIED:20240412T182453Z
UID:12675-1718445600-1718449200@familiesthroughadoption.org
SUMMARY:Orientation-June 15\, 2024
DESCRIPTION:Please Note: According to State of Michigan requirements\, both parents are required to attend orientation\, if this applies to your family circumstance. You do not need to be married to complete the adoption process.
URL:https://familiesthroughadoption.org/event/orientation-june15/
CATEGORIES:Orientation
END:VEVENT
BEGIN:VEVENT
DTSTART;TZID=America/New_York:20240601T100000
DTEND;TZID=America/New_York:20240601T110000
DTSTAMP:20260423T062005
CREATED:20220519T173518Z
LAST-MODIFIED:20240412T182351Z
UID:12067-1717236000-1717239600@familiesthroughadoption.org
SUMMARY:Orientation-June 1\, 2024
DESCRIPTION:Please Note: According to State of Michigan requirements\, both parents are required to attend orientation\, if this applies to your family circumstance. You do not need to be married to complete the adoption process.
URL:https://familiesthroughadoption.org/event/orientation-june1/
END:VEVENT
BEGIN:VEVENT
DTSTART;TZID=America/New_York:20240518T100000
DTEND;TZID=America/New_York:20240518T110000
DTSTAMP:20260423T062005
CREATED:20221219T013214Z
LAST-MODIFIED:20240412T182256Z
UID:12677-1716026400-1716030000@familiesthroughadoption.org
SUMMARY:Orientation-May 18\, 2024
DESCRIPTION:Please Note: According to the state of Michigan requirements\, both parents are required to attend orientation\, if this applies to your family circumstance. You do not need to be married to complete the adoption process. 
URL:https://familiesthroughadoption.org/event/orientation-may18/
CATEGORIES:Orientation
END:VEVENT
BEGIN:VEVENT
DTSTART;TZID=America/New_York:20240504T100000
DTEND;TZID=America/New_York:20240504T110000
DTSTAMP:20260423T062005
CREATED:20220505T025946Z
LAST-MODIFIED:20240412T182138Z
UID:12022-1714816800-1714820400@familiesthroughadoption.org
SUMMARY:Orientation-May 4\, 2024
DESCRIPTION:Please Note: According to State of Michigan requirements\, both parents are required to attend orientation\, if this applies to your family circumstance. You do not need to be married to complete the adoption process.
URL:https://familiesthroughadoption.org/event/orientation-may4/
CATEGORIES:Orientation
END:VEVENT
BEGIN:VEVENT
DTSTART;TZID=America/New_York:20231216T100000
DTEND;TZID=America/New_York:20231216T110000
DTSTAMP:20260423T062005
CREATED:20220505T025946Z
LAST-MODIFIED:20230820T215109Z
UID:12024-1702720800-1702724400@familiesthroughadoption.org
SUMMARY:Orientation-December 16\, 2023
DESCRIPTION:Please Note: According to State of Michigan requirements\, both parents are required to attend orientation\, if this applies to your family circumstance. You do not need to be married to complete the adoption process.
URL:https://familiesthroughadoption.org/event/orientation-dec16/
CATEGORIES:Orientation
END:VEVENT
BEGIN:VEVENT
DTSTART;TZID=America/New_York:20231205T190000
DTEND;TZID=America/New_York:20231205T200000
DTSTAMP:20260423T062005
CREATED:20221113T193607Z
LAST-MODIFIED:20221219T020455Z
UID:12552-1701802800-1701806400@familiesthroughadoption.org
SUMMARY:Zoom IN: Adopted Teens Talking To Other Adopted Teens
DESCRIPTION:Details coming soon!\nFamilies Through Adoption uses a part of fees provided by our adoptive clients for special services\, such as cultural programs for adoptees\, and for other educational\, cultural\, social\, and family related events.
URL:https://familiesthroughadoption.org/event/zoom-in-adopted-teens-talking-to-other-adopted-teens/
END:VEVENT
BEGIN:VEVENT
DTSTART;TZID=America/New_York:20231010T190000
DTEND;TZID=America/New_York:20231010T200000
DTSTAMP:20260423T062005
CREATED:20221113T193302Z
LAST-MODIFIED:20221219T020543Z
UID:12550-1696964400-1696968000@familiesthroughadoption.org
SUMMARY:Zoom IN: Self-Matching in Domestic Infant Adoption
DESCRIPTION:Details coming soon!\nFamilies Through Adoption uses a part of fees provided by our adoptive clients for special services\, such as cultural programs for adoptees\, and for other educational\, cultural\, social\, and family related events.
URL:https://familiesthroughadoption.org/event/zoom-in-self-matching-in-domestic-infant-adoption/
END:VEVENT
BEGIN:VEVENT
DTSTART;TZID=America/New_York:20230912T190000
DTEND;TZID=America/New_York:20230912T200000
DTSTAMP:20260423T062005
CREATED:20221113T193030Z
LAST-MODIFIED:20221219T020430Z
UID:12548-1694545200-1694548800@familiesthroughadoption.org
SUMMARY:Zoom IN: Navigating Birth Parent Relationships
DESCRIPTION:Details coming soon!\nFamilies Through Adoption uses a part of fees provided by our adoptive clients for special services\, such as cultural programs for adoptees\, and for other educational\, cultural\, social\, and family related events.
URL:https://familiesthroughadoption.org/event/zoom-in-navigating-birth-parent-relationships/
END:VEVENT
BEGIN:VEVENT
DTSTART;TZID=America/New_York:20230808T190000
DTEND;TZID=America/New_York:20230808T200000
DTSTAMP:20260423T062005
CREATED:20221113T192831Z
LAST-MODIFIED:20221219T020217Z
UID:12546-1691521200-1691524800@familiesthroughadoption.org
SUMMARY:Zoom IN: Navigating the Special Education System for Adoptive Parents
DESCRIPTION:Details coming soon!\nFamilies Through Adoption uses a part of fees provided by our adoptive clients for special services\, such as cultural programs for adoptees\, and for other educational\, cultural\, social\, and family related events.
URL:https://familiesthroughadoption.org/event/zoom-in-navigating-the-special-education-system-for-adoptive-parents/
END:VEVENT
BEGIN:VEVENT
DTSTART;TZID=America/New_York:20230509T190000
DTEND;TZID=America/New_York:20230509T200000
DTSTAMP:20260423T062005
CREATED:20221113T192534Z
LAST-MODIFIED:20221113T192534Z
UID:12544-1683658800-1683662400@familiesthroughadoption.org
SUMMARY:Zoom IN: Child Privacy\, Internet Usage\, and the Adopted Child
DESCRIPTION:Details coming soon!\nFamilies Through Adoption uses a part of fees provided by our adoptive clients for special services\, such as cultural programs for adoptees\, and for other educational\, cultural\, social\, and family related events.
URL:https://familiesthroughadoption.org/event/zoom-in-child-privacy-internet-usage-and-the-adopted-child/
END:VEVENT
BEGIN:VEVENT
DTSTART;TZID=America/New_York:20230221T190000
DTEND;TZID=America/New_York:20230221T200000
DTSTAMP:20260423T062005
CREATED:20221113T192043Z
LAST-MODIFIED:20221113T192043Z
UID:12539-1677006000-1677009600@familiesthroughadoption.org
SUMMARY:Zoom IN: Fundraising Your Adoption
DESCRIPTION:Details coming soon!\nFamilies Through Adoption uses a part of fees provided by our adoptive clients for special services\, such as cultural programs for adoptees\, and for other educational\, cultural\, social\, and family related events.
URL:https://familiesthroughadoption.org/event/zoom-in-fundraising-your-adoption/
END:VEVENT
BEGIN:VEVENT
DTSTART;TZID=America/New_York:20221119T180000
DTEND;TZID=America/New_York:20221119T200000
DTSTAMP:20260423T062005
CREATED:20220904T030041Z
LAST-MODIFIED:20220904T030135Z
UID:12314-1668880800-1668888000@familiesthroughadoption.org
SUMMARY:Honoring Ceremony
DESCRIPTION:SAVE THE DATE! \nMore details will be added soon!
URL:https://familiesthroughadoption.org/event/honoring-ceremony/
END:VEVENT
BEGIN:VEVENT
DTSTART;TZID=America/New_York:20220730T080000
DTEND;TZID=America/New_York:20220730T190000
DTSTAMP:20260423T062005
CREATED:20220519T191042Z
LAST-MODIFIED:20220519T191042Z
UID:12084-1659168000-1659207600@familiesthroughadoption.org
SUMMARY:Community-Global Water Fest
DESCRIPTION:Dragon Boat Races on the Grand River are coming back to Canal Park this July! Come watch the beautiful Dragon Boats race down the river throughout the day and enjoy international foods\, local artisans\, and live entertainment! The Global Water Fest is a free\, family-friendly event presented by the Grand Rapids Asian Pacific Foundation. \nCheck out the organization website for more information at: https://globalwaterfestgr.com/
URL:https://familiesthroughadoption.org/event/community-global-water-fest/
END:VEVENT
BEGIN:VEVENT
DTSTART;TZID=America/New_York:20220625T080000
DTEND;TZID=America/New_York:20220625T120000
DTSTAMP:20260423T062005
CREATED:20220526T191906Z
LAST-MODIFIED:20220526T191906Z
UID:12123-1656144000-1656158400@familiesthroughadoption.org
SUMMARY:Community: Families For International Children/Heritage Camp Celebration
DESCRIPTION:
URL:https://familiesthroughadoption.org/event/community-families-for-international-children-heritage-camp-celebration/
END:VEVENT
BEGIN:VEVENT
DTSTART;TZID=America/New_York:20190618T090000
DTEND;TZID=America/New_York:20190621T140000
DTSTAMP:20260423T062005
CREATED:20190310T152105Z
LAST-MODIFIED:20190310T152301Z
UID:10781-1560848400-1561125600@familiesthroughadoption.org
SUMMARY:Heritage Camp 2019
DESCRIPTION:Heritage Camp 2019\nRegistration is now open!\nHow do I register? Visit our website at www.fficgr.org and follow the links to Heritage Camp.  Sign up online or download the registration forms\, fill them out\, and mail them in.  All registrations must be in before April 1\, 2019. \nWhen is Heritage Camp?  Camp runs from Tuesday\, June 18\, through Friday\, June 21 from 9:00 am to 2:00 pm every day.  Many volunteers will be working on Monday\, June 18\, as well. \nWhere is Heritage Camp?  New location this year!  Heritage Camp will be held at East Kelloggsville Elementary\, 4656 Jefferson Ave SE\, Grand Rapids\, MI 49548. \nHow much does it cost?  Camp fees will be $120 per student in most camps and $170 per student for Teen Camp.  All registrations must include full payment of camp fees. \nWe’re looking forward to seeing your family at Heritage Camp 2019. \nSending your kids to Heritage Camp this year and wondering what you’ll do with your spare time?  Why not volunteer?  Volunteer by signing up online or download a volunteer form and mail it in.  Remember\, it’s an All-Volunteer Camp- we can’t exist without you!  It’s fun\, too!
URL:https://familiesthroughadoption.org/event/heritage-camp-2019/
LOCATION:East Kelloggsville Elementary\, 4656 Jefferson Ave SE\, Grand Rapids\, MI\, 49548\, United States
END:VEVENT
BEGIN:VEVENT
DTSTART;TZID=America/New_York:20161105T163000
DTEND;TZID=America/New_York:20161105T200000
DTSTAMP:20260423T062005
CREATED:20161013T011811Z
LAST-MODIFIED:20161013T012114Z
UID:10589-1478363400-1478376000@familiesthroughadoption.org
SUMMARY:10th Anniversary and Honoring Ceremony
DESCRIPTION:[pdf-embedder url=”https://familiesthroughadoption.org/wp-content/uploads/2016/10/10-years-honoring-ceremony.pdf”]
URL:https://familiesthroughadoption.org/event/10th-anniversary-honoring-ceremony/
LOCATION:Fifth Reformed Church\, 2012 Griggs St SE\, Grand Rapids\, 49506  \, United States
ORGANIZER;CN="Families Through Adoption":MAILTO:support@familiesthroughadoption.org 
END:VEVENT
BEGIN:VEVENT
DTSTART;TZID=America/New_York:20160813T130000
DTEND;TZID=America/New_York:20160813T200000
DTSTAMP:20260423T062005
CREATED:20160715T144616Z
LAST-MODIFIED:20160715T144619Z
UID:10583-1471093200-1471118400@familiesthroughadoption.org
SUMMARY:Picnic
DESCRIPTION:Come join us at Camp Geneva on August 13th from 1pm – 8pm for our annual picnic.
URL:https://familiesthroughadoption.org/event/picnic/
LOCATION:Camp Geneva\, 3995 N Lakeshore Dr\, Holland\, MI\, 49424\, United States
ORGANIZER;CN="Families Through Adoption":MAILTO:support@familiesthroughadoption.org 
END:VEVENT
BEGIN:VEVENT
DTSTART;VALUE=DATE:20160621
DTEND;VALUE=DATE:20160625
DTSTAMP:20260423T062005
CREATED:20151221T040929Z
LAST-MODIFIED:20151221T040929Z
UID:10446-1466467200-1466812799@familiesthroughadoption.org
SUMMARY:Heritage Camp (FFIC)
DESCRIPTION:
URL:https://familiesthroughadoption.org/event/heritage-camp-ffic/
LOCATION:TBD
ORGANIZER;CN="Families Through Adoption":MAILTO:support@familiesthroughadoption.org 
END:VEVENT
BEGIN:VEVENT
DTSTART;VALUE=DATE:20160603
DTEND;VALUE=DATE:20160606
DTSTAMP:20260423T062005
CREATED:20151221T040800Z
LAST-MODIFIED:20151221T040800Z
UID:10445-1464912000-1465171199@familiesthroughadoption.org
SUMMARY:Food Booth at Festival of the Arts in Grand Rapids
DESCRIPTION:
URL:https://familiesthroughadoption.org/event/food-booth-festival-arts-grand-rapids/
LOCATION:TBD
ORGANIZER;CN="Families Through Adoption":MAILTO:support@familiesthroughadoption.org 
END:VEVENT
BEGIN:VEVENT
DTSTART;VALUE=DATE:20160312
DTEND;VALUE=DATE:20160313
DTSTAMP:20260423T062005
CREATED:20151221T040210Z
LAST-MODIFIED:20151221T040210Z
UID:10443-1457740800-1457827199@familiesthroughadoption.org
SUMMARY:FTA Education Day
DESCRIPTION:
URL:https://familiesthroughadoption.org/event/fta-education-day/
LOCATION:Jenison Christian Church\, 7003 28th Ave\, Hudsonville\, 49426\, United States
ORGANIZER;CN="Families Through Adoption":MAILTO:support@familiesthroughadoption.org 
END:VEVENT
BEGIN:VEVENT
DTSTART;TZID=America/New_York:20160206T140000
DTEND;TZID=America/New_York:20160206T185900
DTSTAMP:20260423T062005
CREATED:20151221T035733Z
LAST-MODIFIED:20160118T043443Z
UID:10440-1454767200-1454785140@familiesthroughadoption.org
SUMMARY:Chinese New Year
DESCRIPTION:Come celebrate The Year of the Monkey with games\, food and fun. We encourage families to dress in Chinese clothing. Our lion\, Fu\, will help end the celebration. Please pass this invitation on and register early so we can plan for you and your family. If you are willing to volunteer for part of the event please call 616-242-9696. \nDinner Served From 4:30pm to 5:30pm \nRegistration and Pre-Payment Due By January 31st 2016 \n \n 
URL:https://familiesthroughadoption.org/event/chinese-new-year/
LOCATION:Vineyard Church North East GR\, 4700 East Beltline Ave NE\, Grand Rapids\, MI\, 49525\, United States
ORGANIZER;CN="Families Through Adoption":MAILTO:support@familiesthroughadoption.org 
END:VEVENT
BEGIN:VEVENT
DTSTART;TZID=America/New_York:20151107T080000
DTEND;TZID=America/New_York:20151107T170000
DTSTAMP:20260423T062005
CREATED:20150928T120126Z
LAST-MODIFIED:20151101T020852Z
UID:10362-1446883200-1446915600@familiesthroughadoption.org
SUMMARY:Annual Honoring Ceremony
DESCRIPTION:Event:      Annual Honoring Ceremony \nDate:        November 7\, 2015\nLocation:   Fifth Reformed Church   \nAddress:   2012 Griggs St SE\, Grand Rapids\, MI 49506  
URL:https://familiesthroughadoption.org/event/annual-honoring-ceremony/
LOCATION:Fifth Reformed Church\, 2012 Griggs St SE\, Grand Rapids\, 49506  \, United States
ATTACH;FMTTYPE=image/png:https://familiesthroughadoption.org/wp-content/uploads/2014/11/1413607213_heart.png
ORGANIZER;CN="Families Through Adoption":MAILTO:support@familiesthroughadoption.org 
END:VEVENT
END:VCALENDAR