BEGIN:VCALENDAR
VERSION:2.0
PRODID:-//Families Through Adoption - Michigan - ECPv6.15.20//NONSGML v1.0//EN
CALSCALE:GREGORIAN
METHOD:PUBLISH
X-WR-CALNAME:Families Through Adoption - Michigan
X-ORIGINAL-URL:https://familiesthroughadoption.org
X-WR-CALDESC:Events for Families Through Adoption - Michigan
REFRESH-INTERVAL;VALUE=DURATION:PT1H
X-Robots-Tag:noindex
X-PUBLISHED-TTL:PT1H
BEGIN:VTIMEZONE
TZID:America/New_York
BEGIN:DAYLIGHT
TZOFFSETFROM:-0500
TZOFFSETTO:-0400
TZNAME:EDT
DTSTART:20130310T070000
END:DAYLIGHT
BEGIN:STANDARD
TZOFFSETFROM:-0400
TZOFFSETTO:-0500
TZNAME:EST
DTSTART:20131103T060000
END:STANDARD
BEGIN:DAYLIGHT
TZOFFSETFROM:-0500
TZOFFSETTO:-0400
TZNAME:EDT
DTSTART:20140309T070000
END:DAYLIGHT
BEGIN:STANDARD
TZOFFSETFROM:-0400
TZOFFSETTO:-0500
TZNAME:EST
DTSTART:20141102T060000
END:STANDARD
BEGIN:DAYLIGHT
TZOFFSETFROM:-0500
TZOFFSETTO:-0400
TZNAME:EDT
DTSTART:20150308T070000
END:DAYLIGHT
BEGIN:STANDARD
TZOFFSETFROM:-0400
TZOFFSETTO:-0500
TZNAME:EST
DTSTART:20151101T060000
END:STANDARD
BEGIN:DAYLIGHT
TZOFFSETFROM:-0500
TZOFFSETTO:-0400
TZNAME:EDT
DTSTART:20160313T070000
END:DAYLIGHT
BEGIN:STANDARD
TZOFFSETFROM:-0400
TZOFFSETTO:-0500
TZNAME:EST
DTSTART:20161106T060000
END:STANDARD
END:VTIMEZONE
BEGIN:VEVENT
DTSTART;TZID=America/New_York:20150718T130000
DTEND;TZID=America/New_York:20150718T210000
DTSTAMP:20260423T110057
CREATED:20141210T033444Z
LAST-MODIFIED:20150320T105422Z
UID:339-1437224400-1437253200@familiesthroughadoption.org
SUMMARY:Annual Picnic and Meeting
DESCRIPTION:Details to come \nThe Picnic will be held from 1pm until dusk. \n 
URL:https://familiesthroughadoption.org/event/annual-picnic-meeting/
LOCATION:MI
ATTACH;FMTTYPE=image/png:https://familiesthroughadoption.org/wp-content/uploads/2014/12/1418204015_Beach_Umbrella.png
END:VEVENT
BEGIN:VEVENT
DTSTART;VALUE=DATE:20150605
DTEND;VALUE=DATE:20150608
DTSTAMP:20260423T110057
CREATED:20141210T032158Z
LAST-MODIFIED:20150324T185831Z
UID:338-1433462400-1433721599@familiesthroughadoption.org
SUMMARY:Festival of the Arts
DESCRIPTION:Chapati Grill Downtown Grand Rapids \n[download id=”557″]
URL:https://familiesthroughadoption.org/event/festival-arts/
LOCATION:MI
ORGANIZER;CN="Families Through Adoption":MAILTO:support@familiesthroughadoption.org 
END:VEVENT
BEGIN:VEVENT
DTSTART;VALUE=DATE:20150410
DTEND;VALUE=DATE:20150412
DTSTAMP:20260423T110057
CREATED:20150213T070306Z
LAST-MODIFIED:20150213T070306Z
UID:496-1428624000-1428796799@familiesthroughadoption.org
SUMMARY:Simulcast Presentation
DESCRIPTION:The Empowered To Connect Conference is a two-day conference for adoptive and foster parents\, ministry leaders\, and professionals designed to help them connect with children from hard places in order to help them heal and become all that God desires for them to be. \nLed by Dr. Karyn Purvis (Director of the TCU Institute of Child Development)\, this conference is ideal for adoptive and foster parents\, those considering adoption or foster care\, Safe Families and those who are serving and supporting others\, including social workers\, agency professionals\, church staff and ministry leaders\, counselors\, therapists and others all involved in adoption and foster care ministries or services. \n  \nWhere: Grace Immanuel Church; 860 Peachcrest Ct NE.\, Grand Rapids\, MI 49505 \nRegistration:  $10 per couple\, or if registering as an individual\, $10 per individual.  Registration includes the Empowered to Connect workbook. \nConferences sessions will be held from 10am-6pm EST on both days. Light refreshments will be provided during breaks throughout the event\, with “on your own” lunch breaks scheduled from 1-2:30pm. All participants are highly encouraged to attend sessions on both days. Professionals may be eligible to receive continuing education credit for their participation.
URL:https://familiesthroughadoption.org/event/simulcast-presentation/
LOCATION:Grace Immanuel Church\, 860 Peachcrest CT NE\, Grand Rapids\, MI\, 49505\, United States
END:VEVENT
BEGIN:VEVENT
DTSTART;TZID=America/New_York:20150221T090000
DTEND;TZID=America/New_York:20150221T120000
DTSTAMP:20260423T110057
CREATED:20141210T025935Z
LAST-MODIFIED:20150119T161731Z
UID:335-1424509200-1424520000@familiesthroughadoption.org
SUMMARY:Group Breakfast
DESCRIPTION:Traditional Ethiopian Breakfast\nWhen: February 21\, 2015 from 9am – 12pm\nWhere: GoJo’s Ethiopian Restaurant\n421 Norwood Ave. SE Grand Rapids\, MI 49506 \n\nRegistration: $7.00 per family if you pre-register via PayPal or $10.00 at the door. The registration includes coffee ceremony and crafts. Breakfast is $5.00 per person if you pre-register and pay or $7.00 at the door. To pay for both the registration and breakfast totals please fill out the “Other Amount” box with the correct total. Thank you \n\n[wp_paypal_payment]
URL:https://familiesthroughadoption.org/event/group-breakfast/
LOCATION:Go Jo Ethiopian Cuisine\, 421 Norwood Avenue Southeast\, Grand Rapids\, MI\, 49506\, United States
ORGANIZER;CN="Families Through Adoption":MAILTO:support@familiesthroughadoption.org 
END:VEVENT
BEGIN:VEVENT
DTSTART;TZID=America/New_York:20150105T080000
DTEND;TZID=America/New_York:20150105T170000
DTSTAMP:20260423T110057
CREATED:20141210T024828Z
LAST-MODIFIED:20141210T024828Z
UID:332-1420444800-1420477200@familiesthroughadoption.org
SUMMARY:Licensing with the State of Michigan
DESCRIPTION:
URL:https://familiesthroughadoption.org/event/licensing-state-michigan/
LOCATION:MI
END:VEVENT
BEGIN:VEVENT
DTSTART;TZID=America/New_York:20141220T090000
DTEND;TZID=America/New_York:20141220T210000
DTSTAMP:20260423T110057
CREATED:20141210T024223Z
LAST-MODIFIED:20141210T024223Z
UID:329-1419066000-1419109200@familiesthroughadoption.org
SUMMARY:Wrap Presents
DESCRIPTION:
URL:https://familiesthroughadoption.org/event/wrap-presents/
LOCATION:Schuler’s Books\, 2660 28th St SE\, Grand Rapids\, MI\, 49512\, United States
ATTACH;FMTTYPE=image/png:https://familiesthroughadoption.org/wp-content/uploads/2014/11/1413242211_box1.png
ORGANIZER;CN="Families Through Adoption":MAILTO:support@familiesthroughadoption.org 
END:VEVENT
END:VCALENDAR